BEGIN:VCALENDAR
VERSION:2.0
PRODID:-//Hobby Guy - ECPv6.15.12.2//NONSGML v1.0//EN
CALSCALE:GREGORIAN
METHOD:PUBLISH
X-ORIGINAL-URL:https://www.hobbyguy.co.il
X-WR-CALDESC:Events for Hobby Guy
REFRESH-INTERVAL;VALUE=DURATION:PT1H
X-Robots-Tag:noindex
X-PUBLISHED-TTL:PT1H
BEGIN:VTIMEZONE
TZID:Asia/Jerusalem
BEGIN:DAYLIGHT
TZOFFSETFROM:+0200
TZOFFSETTO:+0300
TZNAME:IDT
DTSTART:20170324T000000
END:DAYLIGHT
BEGIN:STANDARD
TZOFFSETFROM:+0300
TZOFFSETTO:+0200
TZNAME:IST
DTSTART:20171028T230000
END:STANDARD
BEGIN:DAYLIGHT
TZOFFSETFROM:+0200
TZOFFSETTO:+0300
TZNAME:IDT
DTSTART:20180323T000000
END:DAYLIGHT
BEGIN:STANDARD
TZOFFSETFROM:+0300
TZOFFSETTO:+0200
TZNAME:IST
DTSTART:20181027T230000
END:STANDARD
BEGIN:DAYLIGHT
TZOFFSETFROM:+0200
TZOFFSETTO:+0300
TZNAME:IDT
DTSTART:20190329T000000
END:DAYLIGHT
BEGIN:STANDARD
TZOFFSETFROM:+0300
TZOFFSETTO:+0200
TZNAME:IST
DTSTART:20191026T230000
END:STANDARD
END:VTIMEZONE
BEGIN:VEVENT
DTSTART;TZID=Asia/Jerusalem:20180512T080000
DTEND;TZID=Asia/Jerusalem:20180519T180000
DTSTAMP:20260425T041015
CREATED:20180211T062736Z
LAST-MODIFIED:20180303T190323Z
UID:4907-1526112000-1526752800@www.hobbyguy.co.il
SUMMARY:Joe Nall Week
DESCRIPTION:אירוע הטיסנאות הגדול בעולם !!!
URL:https://www.hobbyguy.co.il/event/joe-nall-week/
LOCATION:Triple Tree Aerodrome\, 330 Mary Hanna Rd\, Woodruff\, SC\, 29388\, United States
CATEGORIES:תחרויות
ATTACH;FMTTYPE=image/png:https://www.hobbyguy.co.il/wp-content/uploads/2018/02/הורד.png
END:VEVENT
BEGIN:VEVENT
DTSTART;TZID=Asia/Jerusalem:20180323T080000
DTEND;TZID=Asia/Jerusalem:20180324T170000
DTSTAMP:20260425T041015
CREATED:20180211T060019Z
LAST-MODIFIED:20180318T105326Z
UID:4896-1521792000-1521910800@www.hobbyguy.co.il
SUMMARY:IMAC Challenge first Timer
DESCRIPTION:תחרות ארצית של טיסני סקייל אווירובטים הכוללת טיסה מדויקת ופריסטייל\, מחלקת IMAC.\nלפרטים יש להיכנס לקישור.
URL:https://www.hobbyguy.co.il/event/imac-challenge-first-timer/
LOCATION:מנחת קציעות\, קציעות\, Israel
CATEGORIES:תחרויות
ATTACH;FMTTYPE=image/jpeg:https://www.hobbyguy.co.il/wp-content/uploads/2018/02/תעודה-חדשה-2018.jpg
END:VEVENT
END:VCALENDAR